BEGIN:VCALENDAR
VERSION:2.0
PRODID:-//Cooler Concord - ECPv6.15.18//NONSGML v1.0//EN
CALSCALE:GREGORIAN
METHOD:PUBLISH
X-WR-CALNAME:Cooler Concord
X-ORIGINAL-URL:https://coolerconcord.org
X-WR-CALDESC:Events for Cooler Concord
REFRESH-INTERVAL;VALUE=DURATION:PT1H
X-Robots-Tag:noindex
X-PUBLISHED-TTL:PT1H
BEGIN:VTIMEZONE
TZID:America/New_York
BEGIN:DAYLIGHT
TZOFFSETFROM:-0500
TZOFFSETTO:-0400
TZNAME:EDT
DTSTART:20250309T070000
END:DAYLIGHT
BEGIN:STANDARD
TZOFFSETFROM:-0400
TZOFFSETTO:-0500
TZNAME:EST
DTSTART:20251102T060000
END:STANDARD
BEGIN:DAYLIGHT
TZOFFSETFROM:-0500
TZOFFSETTO:-0400
TZNAME:EDT
DTSTART:20260308T070000
END:DAYLIGHT
BEGIN:STANDARD
TZOFFSETFROM:-0400
TZOFFSETTO:-0500
TZNAME:EST
DTSTART:20261101T060000
END:STANDARD
BEGIN:DAYLIGHT
TZOFFSETFROM:-0500
TZOFFSETTO:-0400
TZNAME:EDT
DTSTART:20270314T070000
END:DAYLIGHT
BEGIN:STANDARD
TZOFFSETFROM:-0400
TZOFFSETTO:-0500
TZNAME:EST
DTSTART:20271107T060000
END:STANDARD
END:VTIMEZONE
BEGIN:VEVENT
DTSTART;TZID=America/New_York:20260422T163000
DTEND;TZID=America/New_York:20260422T180000
DTSTAMP:20260421T163603
CREATED:20260330T190505Z
LAST-MODIFIED:20260330T190505Z
UID:6703-1776875400-1776880800@coolerconcord.org
SUMMARY:Clean Energy SCHOOL Tour
DESCRIPTION:The Boardwalk School Campus:\nAn Acton Clean Energy Success!\n  \nThis April\, EnergizeActon.org has a special treat—a Clean Energy SCHOOL Tour! \n  \nPlease register HERE. \nWe like to offer home tours\, so that local residents can see how clean energy technology actually works on the ground. It is also an important opportunity for people to ask questions of the host about what worked well\, what might have been challenging\, and what were the costs. However\, seeing clean energy on a larger scale is also incredibly helpful. This event\, co-sponsored with Mothers Out Front Acton\, celebrates the expertise and success of leadership from the Acton-Boxborough School District alongside additional hard work and achievement from Town of Acton staff. Join us and ask how clean energy works in school and municipal buildings. \nThe new Gates and Douglas Schools (commonly known as the Boardwalk Campus) are an amazing accomplishment for the school district. When planners first envisioned the project\, they estimated future energy efficiencies and savings. Well\, the Boardwalk Campus has consistently outperformed ALL those estimates! And this is true even though not every element of the clean energy project was implemented. We invite you to tour the building and see how clean energy choices do indeed work. \nIn 2024\, Mass Save recognized the Acton-Boxborough Regional School District as a Climate Leader for the Boardwalk Campus. Mass Save wrote that the award goes to “institutions that demonstrate excellence in reducing environmental impact and associated costs\, fostering the health and well-being of students and staff\, and implementing effective interdisciplinary sustainability education\,” standards met by Acton “with flying colors.” The school project also won a Green Building Showcase Award\, among other honors. \nThe Acton Exchange writes\, “The building\, which opened in 2022 and has drawn national attention\, includes a fully electric\, commercial-scale kitchen\, enhanced insulation\, ground-source heat pumps\, demand-control ventilation\, and energy recovery. Energy Use Intensity (EUI) goals for the building have exceeded state targets.” \n  \nJoin us to celebrate this success! \nPlease Register HERE. \nApologies\, but this tour is limited to 30 individuals. \nWe will keep a waiting list if we surpass 30 sign-ups.
URL:https://coolerconcord.org/event/clean-energy-school-tour/
LOCATION:75 Spruce St.\, Acton\, MA\, 75 Spruce Street\, Acton\, MA\, 01720\, United States
ATTACH;FMTTYPE=image/jpeg:https://coolerconcord.org/wp-content/uploads/sites/20/2026/03/Clean-Energy-SCHOOL-Tour-HOZ.jpg
ORGANIZER;CN="EnergizeActon.org":MAILTO:energizeacton.org@gmail.com
END:VEVENT
END:VCALENDAR