BEGIN:VCALENDAR
VERSION:2.0
PRODID:-//Cooler Concord - ECPv6.15.18//NONSGML v1.0//EN
CALSCALE:GREGORIAN
METHOD:PUBLISH
X-ORIGINAL-URL:https://coolerconcord.org
X-WR-CALDESC:Events for Cooler Concord
REFRESH-INTERVAL;VALUE=DURATION:PT1H
X-Robots-Tag:noindex
X-PUBLISHED-TTL:PT1H
BEGIN:VTIMEZONE
TZID:America/New_York
BEGIN:DAYLIGHT
TZOFFSETFROM:-0500
TZOFFSETTO:-0400
TZNAME:EDT
DTSTART:20240310T070000
END:DAYLIGHT
BEGIN:STANDARD
TZOFFSETFROM:-0400
TZOFFSETTO:-0500
TZNAME:EST
DTSTART:20241103T060000
END:STANDARD
BEGIN:DAYLIGHT
TZOFFSETFROM:-0500
TZOFFSETTO:-0400
TZNAME:EDT
DTSTART:20250309T070000
END:DAYLIGHT
BEGIN:STANDARD
TZOFFSETFROM:-0400
TZOFFSETTO:-0500
TZNAME:EST
DTSTART:20251102T060000
END:STANDARD
BEGIN:DAYLIGHT
TZOFFSETFROM:-0500
TZOFFSETTO:-0400
TZNAME:EDT
DTSTART:20260308T070000
END:DAYLIGHT
BEGIN:STANDARD
TZOFFSETFROM:-0400
TZOFFSETTO:-0500
TZNAME:EST
DTSTART:20261101T060000
END:STANDARD
END:VTIMEZONE
BEGIN:VEVENT
DTSTART;TZID=America/New_York:20250109T000000
DTEND;TZID=America/New_York:20250109T010000
DTSTAMP:20260423T063736
CREATED:20251113T145325Z
LAST-MODIFIED:20251113T145410Z
UID:10000024-1736380800-1736384400@coolerconcord.org
SUMMARY:Sustainable Aviation Fuels: Can they meet 2050 climate goals?
DESCRIPTION:Much of the research and policy conversation about the future of “sustainable aviation fuels” has been funded by the aviation industry. This webinar features independent researchers who receive no aviation industry support. \nTopics & Panelists: \n• The Science of Sustainable Aviation Fuels (SAFs): Types of SAFs\, their stages of development\, their promise and limitations \n– Neil Rasmussen\, MIT \n• Crop-based biofuels and their implications for land use and resources – Dan Lashof\, World Resources Institute \n• Sustainable Aviation Fuel as a Policy Question: What are the trade-offs? – Chuck Collins\, Institute for Policy Studies \nSponsored by the Institute for Policy Studies\, Program on Equality; \nSierra Club Massachusetts; Massachusetts Climate Action Network; \nMass Power Forward; Stop Private Jet Expansion at Hanscom or Anywhere; Center for Biological Diversity.
URL:https://coolerconcord.org/event/sustainable-aviation-fuels-can-they-meet-2050-climate-goals/
ATTACH;FMTTYPE=image/jpeg:https://massenergize-wp-media.s3.us-east-2.amazonaws.com/sites/20/Screenshot_2024-12-31_at_11.46.22AM-1.jpg
END:VEVENT
END:VCALENDAR