BEGIN:VCALENDAR
VERSION:2.0
PRODID:-//Cooler Concord - ECPv6.15.18//NONSGML v1.0//EN
CALSCALE:GREGORIAN
METHOD:PUBLISH
X-WR-CALNAME:Cooler Concord
X-ORIGINAL-URL:https://coolerconcord.org
X-WR-CALDESC:Events for Cooler Concord
REFRESH-INTERVAL;VALUE=DURATION:PT1H
X-Robots-Tag:noindex
X-PUBLISHED-TTL:PT1H
BEGIN:VTIMEZONE
TZID:America/New_York
BEGIN:DAYLIGHT
TZOFFSETFROM:-0500
TZOFFSETTO:-0400
TZNAME:EDT
DTSTART:20250309T070000
END:DAYLIGHT
BEGIN:STANDARD
TZOFFSETFROM:-0400
TZOFFSETTO:-0500
TZNAME:EST
DTSTART:20251102T060000
END:STANDARD
BEGIN:DAYLIGHT
TZOFFSETFROM:-0500
TZOFFSETTO:-0400
TZNAME:EDT
DTSTART:20260308T070000
END:DAYLIGHT
BEGIN:STANDARD
TZOFFSETFROM:-0400
TZOFFSETTO:-0500
TZNAME:EST
DTSTART:20261101T060000
END:STANDARD
BEGIN:DAYLIGHT
TZOFFSETFROM:-0500
TZOFFSETTO:-0400
TZNAME:EDT
DTSTART:20270314T070000
END:DAYLIGHT
BEGIN:STANDARD
TZOFFSETFROM:-0400
TZOFFSETTO:-0500
TZNAME:EST
DTSTART:20271107T060000
END:STANDARD
END:VTIMEZONE
BEGIN:VEVENT
DTSTART;TZID=America/New_York:20260422T163000
DTEND;TZID=America/New_York:20260422T180000
DTSTAMP:20260422T022226
CREATED:20260330T190505Z
LAST-MODIFIED:20260330T190505Z
UID:10000261-1776875400-1776880800@coolerconcord.org
SUMMARY:Clean Energy SCHOOL Tour
DESCRIPTION:The Boardwalk School Campus:\nAn Acton Clean Energy Success!\n  \nThis April\, EnergizeActon.org has a special treat—a Clean Energy SCHOOL Tour! \n  \nPlease register HERE. \nWe like to offer home tours\, so that local residents can see how clean energy technology actually works on the ground. It is also an important opportunity for people to ask questions of the host about what worked well\, what might have been challenging\, and what were the costs. However\, seeing clean energy on a larger scale is also incredibly helpful. This event\, co-sponsored with Mothers Out Front Acton\, celebrates the expertise and success of leadership from the Acton-Boxborough School District alongside additional hard work and achievement from Town of Acton staff. Join us and ask how clean energy works in school and municipal buildings. \nThe new Gates and Douglas Schools (commonly known as the Boardwalk Campus) are an amazing accomplishment for the school district. When planners first envisioned the project\, they estimated future energy efficiencies and savings. Well\, the Boardwalk Campus has consistently outperformed ALL those estimates! And this is true even though not every element of the clean energy project was implemented. We invite you to tour the building and see how clean energy choices do indeed work. \nIn 2024\, Mass Save recognized the Acton-Boxborough Regional School District as a Climate Leader for the Boardwalk Campus. Mass Save wrote that the award goes to “institutions that demonstrate excellence in reducing environmental impact and associated costs\, fostering the health and well-being of students and staff\, and implementing effective interdisciplinary sustainability education\,” standards met by Acton “with flying colors.” The school project also won a Green Building Showcase Award\, among other honors. \nThe Acton Exchange writes\, “The building\, which opened in 2022 and has drawn national attention\, includes a fully electric\, commercial-scale kitchen\, enhanced insulation\, ground-source heat pumps\, demand-control ventilation\, and energy recovery. Energy Use Intensity (EUI) goals for the building have exceeded state targets.” \n  \nJoin us to celebrate this success! \nPlease Register HERE. \nApologies\, but this tour is limited to 30 individuals. \nWe will keep a waiting list if we surpass 30 sign-ups.
URL:https://coolerconcord.org/event/clean-energy-school-tour/
LOCATION:75 Spruce St.\, Acton\, MA\, 75 Spruce Street\, Acton\, MA\, 01720\, United States
ATTACH;FMTTYPE=image/jpeg:https://coolerconcord.org/wp-content/uploads/sites/20/2026/03/Clean-Energy-SCHOOL-Tour-HOZ.jpg
ORGANIZER;CN="EnergizeActon.org":MAILTO:energizeacton.org@gmail.com
END:VEVENT
BEGIN:VEVENT
DTSTART;TZID=America/New_York:20260422T180000
DTEND;TZID=America/New_York:20260426T210000
DTSTAMP:20260422T022226
CREATED:20260228T232220Z
LAST-MODIFIED:20260325T141948Z
UID:10000173-1776880800-1777237200@coolerconcord.org
SUMMARY:OARS 18th Wild and Scenic Film Festival
DESCRIPTION:To celebrate Earth Day and OARS’ 40th Anniversary\, we’re bringing the Wild & Scenic Film Festival to Concord for FIVE DAYS of community-focused events\, anchored by our annual film screenings on April 25. See the full schedule of events and get your tickets here! \nApril 22 Wild & Scenic: A Conversation with Julia Blatt and Barb Moran at Concord Academy \nApril 23 The Noisy Puddle Reading with Linda Booth Sweeney at Haute Coffee\, Outdoor Movie Night at The Robbins House\, Launch of 3-Day Cross-Town Bingo based on The Noisy Puddle \nApril 24 Wildlife Photography Exhibit Opening Reception \nApril 25 Beavers & Beer at Wright Tavern\, Immersive River Experience\, 18th Annual Wild & Scenic Film Festival Screenings \nApril 26 Wetlands Talk & Walk with Concord Land Conservation Trust and The Thoreau Alliance\, Festival Closeout at South Bridge Boathouse
URL:https://coolerconcord.org/event/oars-18th-wild-and-scenic-film-festival/
ATTACH;FMTTYPE=image/jpeg:https://coolerconcord.org/wp-content/uploads/sites/20/2026/02/OARS.jpeg
ORGANIZER;CN="OARS":MAILTO:office@oars3rivers.org
END:VEVENT
BEGIN:VEVENT
DTSTART;TZID=America/New_York:20260422T190000
DTEND;TZID=America/New_York:20260422T200000
DTSTAMP:20260422T022226
CREATED:20260331T200745Z
LAST-MODIFIED:20260331T200745Z
UID:10000200-1776884400-1776888000@coolerconcord.org
SUMMARY:Heat Pumps 101
DESCRIPTION:  \nGo Heat Pumps!\n  \nYou may have heard more people in Massachusetts talking about heat pumps—and for good reason. Heat pumps are an efficient\, all-electric system that can heat and cool your home while lowering emissions and improving comfort year-round. Join wonderful Bob Zogg of the HeatSmart Alliance and animated Kit Wu of the Laminar Collective to get an orientation to heat pumps\, how they work\, and how incentives can help you transition to clean energy. \nHere’s why heat pumps are gaining popularity across Massachusetts: \nHeating and cooling in one efficient system\nHeat pumps provide both heating in the winter and cooling in the summer. They’re highly efficient\, even in cold New England temperatures\, and can help lower your energy use. \nLower emissions and a cleaner energy future\nHeating with fossil fuels is one of the largest sources of climate pollution in Massachusetts. Switching to heat pumps helps reduce your home’s carbon footprint and supports the state’s transition to clean electricity. \nComfort\, safety\, and better indoor air quality\nHeat pumps don’t burn fuel inside your home\, which means no on-site combustion and fewer indoor air pollutants. They also provide steady\, even heating and cooling. \nIncentives can cover thousands of dollars\nPrograms like Mass Save offer generous rebates\, 0% interest financing\, and support to help make heat pumps more affordable. Additional programs through organizations like the Massachusetts Clean Energy Center may also be available. \n📣 Curious if heat pumps are right for you?\nJoin our webinar to learn how heat pumps work\, compare costs\, explore available incentives\, and learn how to get quotes from trusted installers. \n  \nApril 22\, 2026\, at 7:00 PM\n Register: bit.ly/heat-pumps-101\nTogether\, we can create more comfortable homes and a cleaner energy future for our communities. \n \nAn Acton Clean Energy Coach explains his heat pump system. (Photo: K. Root Watkins) \n  \n 
URL:https://coolerconcord.org/event/heat-pumps-101/
LOCATION:Zoom
ATTACH;FMTTYPE=image/jpeg:https://coolerconcord.org/wp-content/uploads/sites/20/2026/03/Heat-Pumps-101-Apr26-11-x-8.5-in.jpg
ORGANIZER;CN="EnergizeActon.org":MAILTO:energizeacton.org@gmail.com
END:VEVENT
END:VCALENDAR